BEGIN:VCALENDAR
VERSION:2.0
PRODID:-//GatinApp//Event Calendar//EN
CALSCALE:GREGORIAN
X-WR-CALNAME:Claude Dubois — Dubois solide en liberté
BEGIN:VEVENT
UID:event-6901@gatinapp.com
DTSTAMP:20260421T015316Z
DTSTART:20260502T000000Z
DTEND:20260502T020000Z
SUMMARY:Claude Dubois — Dubois solide en liberté
DESCRIPTION:Claude Dubois présente son spectacle Dubois solide en liberté\, où il interprète ses chansons les plus demandées et des incontournables de son répertoire. Spectacle de chanson mettant en valeur sa voix puissante et son charisme.
LOCATION:855 Boulevard de la Gappe
URL:https://www.maisondelaculture.ca/salle-odyssee/spectacles/chanson/claude-dubois.html
END:VEVENT
BEGIN:VEVENT
UID:event-6902@gatinapp.com
DTSTAMP:20260421T015316Z
DTSTART:20260905T000000Z
DTEND:20260905T020000Z
SUMMARY:Claude Dubois — Dubois solide en liberté
DESCRIPTION:Claude Dubois présente son spectacle Dubois solide en liberté\, où il interprète ses chansons les plus demandées et des incontournables de son répertoire. Spectacle de chanson mettant en valeur sa voix puissante et son charisme.
LOCATION:855 Boulevard de la Gappe
URL:https://www.maisondelaculture.ca/salle-odyssee/spectacles/chanson/claude-dubois.html
END:VEVENT
END:VCALENDAR
