BEGIN:VCALENDAR
VERSION:2.0
PRODID:-//GatinApp//Event Calendar//EN
CALSCALE:GREGORIAN
BEGIN:VEVENT
UID:event-6841@gatinapp.com
DTSTAMP:20260420T172531Z
DTSTART:20260504T130000Z
DTEND:20260504T210000Z
SUMMARY:Musée canadien de l'histoire
DESCRIPTION:Musée canadien de l'histoire
LOCATION:100 Rue Laurier
URL:https://www.historymuseum.ca/
END:VEVENT
END:VCALENDAR
