BEGIN:VCALENDAR
VERSION:2.0
PRODID:-//GatinApp//Event Calendar//EN
CALSCALE:GREGORIAN
X-WR-CALNAME:Volleyball libre
BEGIN:VEVENT
UID:event-6680@gatinapp.com
DTSTAMP:20260420T023616Z
DTSTART:20260329T230000Z
DTEND:20260330T020000Z
SUMMARY:Volleyball libre
DESCRIPTION:14 ANS ET +. Gratuit avec la carte Accès Gatineau+.
LOCATION:Boulevard de La Vérendrye Est
URL:https://www.gatineau.ca/portail/default.aspx?p=activites_evenements_idees_sorties/activites_sport_loisir/activites_interieures/volleyball
END:VEVENT
BEGIN:VEVENT
UID:event-6681@gatinapp.com
DTSTAMP:20260420T023616Z
DTSTART:20260405T230000Z
DTEND:20260406T020000Z
SUMMARY:Volleyball libre
DESCRIPTION:14 ANS ET +. Gratuit avec la carte Accès Gatineau+.
LOCATION:Boulevard de La Vérendrye Est
URL:https://www.gatineau.ca/portail/default.aspx?p=activites_evenements_idees_sorties/activites_sport_loisir/activites_interieures/volleyball
END:VEVENT
BEGIN:VEVENT
UID:event-6682@gatinapp.com
DTSTAMP:20260420T023616Z
DTSTART:20260412T230000Z
DTEND:20260413T020000Z
SUMMARY:Volleyball libre
DESCRIPTION:14 ANS ET +. Gratuit avec la carte Accès Gatineau+.
LOCATION:Boulevard de La Vérendrye Est
URL:https://www.gatineau.ca/portail/default.aspx?p=activites_evenements_idees_sorties/activites_sport_loisir/activites_interieures/volleyball
END:VEVENT
BEGIN:VEVENT
UID:event-6683@gatinapp.com
DTSTAMP:20260420T023616Z
DTSTART:20260419T230000Z
DTEND:20260420T020000Z
SUMMARY:Volleyball libre
DESCRIPTION:14 ANS ET +. Gratuit avec la carte Accès Gatineau+.
LOCATION:Boulevard de La Vérendrye Est
URL:https://www.gatineau.ca/portail/default.aspx?p=activites_evenements_idees_sorties/activites_sport_loisir/activites_interieures/volleyball
END:VEVENT
BEGIN:VEVENT
UID:event-6684@gatinapp.com
DTSTAMP:20260420T023616Z
DTSTART:20260426T230000Z
DTEND:20260427T020000Z
SUMMARY:Volleyball libre
DESCRIPTION:14 ANS ET +. Gratuit avec la carte Accès Gatineau+.
LOCATION:Boulevard de La Vérendrye Est
URL:https://www.gatineau.ca/portail/default.aspx?p=activites_evenements_idees_sorties/activites_sport_loisir/activites_interieures/volleyball
END:VEVENT
BEGIN:VEVENT
UID:event-6685@gatinapp.com
DTSTAMP:20260420T023616Z
DTSTART:20260503T230000Z
DTEND:20260504T020000Z
SUMMARY:Volleyball libre
DESCRIPTION:14 ANS ET +. Gratuit avec la carte Accès Gatineau+.
LOCATION:Boulevard de La Vérendrye Est
URL:https://www.gatineau.ca/portail/default.aspx?p=activites_evenements_idees_sorties/activites_sport_loisir/activites_interieures/volleyball
END:VEVENT
BEGIN:VEVENT
UID:event-6686@gatinapp.com
DTSTAMP:20260420T023616Z
DTSTART:20260510T230000Z
DTEND:20260511T020000Z
SUMMARY:Volleyball libre
DESCRIPTION:14 ANS ET +. Gratuit avec la carte Accès Gatineau+.
LOCATION:Boulevard de La Vérendrye Est
URL:https://www.gatineau.ca/portail/default.aspx?p=activites_evenements_idees_sorties/activites_sport_loisir/activites_interieures/volleyball
END:VEVENT
BEGIN:VEVENT
UID:event-6687@gatinapp.com
DTSTAMP:20260420T023616Z
DTSTART:20260517T230000Z
DTEND:20260518T020000Z
SUMMARY:Volleyball libre
DESCRIPTION:14 ANS ET +. Gratuit avec la carte Accès Gatineau+.
LOCATION:Boulevard de La Vérendrye Est
URL:https://www.gatineau.ca/portail/default.aspx?p=activites_evenements_idees_sorties/activites_sport_loisir/activites_interieures/volleyball
END:VEVENT
END:VCALENDAR
