BEGIN:VCALENDAR
VERSION:2.0
PRODID:-//GatinApp//Event Calendar//EN
CALSCALE:GREGORIAN
BEGIN:VEVENT
UID:event-6529@gatinapp.com
DTSTAMP:20260419T170441Z
DTSTART:20260503T133000Z
DTEND:20260503T142500Z
SUMMARY:Pickleball libre
DESCRIPTION:TOUS. Gratuit avec la carte Accès Gatineau+.
LOCATION:693 Boulevard du Plateau
URL:https://www.gatineau.ca/portail/default.aspx?p=activites_evenements_idees_sorties/activites_sport_loisir/activites_interieures/pickleball
END:VEVENT
END:VCALENDAR
