BEGIN:VCALENDAR
VERSION:2.0
PRODID:-//GatinApp//Event Calendar//EN
CALSCALE:GREGORIAN
BEGIN:VEVENT
UID:event-6394@gatinapp.com
DTSTAMP:20260421T021453Z
DTSTART:20260504T214500Z
DTEND:20260504T225500Z
SUMMARY:Pickleball libre
DESCRIPTION:TOUS. Gratuit avec la carte Accès Gatineau+.
LOCATION:Boulevard de la Gappe
URL:https://www.gatineau.ca/portail/default.aspx?p=activites_evenements_idees_sorties/activites_sport_loisir/activites_interieures/pickleball
END:VEVENT
END:VCALENDAR
