BEGIN:VCALENDAR
VERSION:2.0
PRODID:-//GatinApp//Event Calendar//EN
CALSCALE:GREGORIAN
BEGIN:VEVENT
UID:event-6201@gatinapp.com
DTSTAMP:20260419T211352Z
DTSTART:20260503T180000Z
DTEND:20260503T191500Z
SUMMARY:Pickleball libre
DESCRIPTION:TOUS. Gratuit avec la carte Accès Gatineau+.
LOCATION:582 Rue Maclaren Est
URL:https://www.gatineau.ca/portail/default.aspx?p=activites_evenements_idees_sorties/activites_sport_loisir/activites_interieures/pickleball
END:VEVENT
END:VCALENDAR
