BEGIN:VCALENDAR
VERSION:2.0
PRODID:-//GatinApp//Event Calendar//EN
CALSCALE:GREGORIAN
BEGIN:VEVENT
UID:event-6121@gatinapp.com
DTSTAMP:20260424T031114Z
DTSTART:20260507T234500Z
DTEND:20260508T005500Z
SUMMARY:Pickleball libre
DESCRIPTION:TOUS. Gratuit avec la carte Accès Gatineau+.
LOCATION:155 Rue du Golf
URL:https://www.gatineau.ca/portail/default.aspx?p=activites_evenements_idees_sorties/activites_sport_loisir/activites_interieures/pickleball
END:VEVENT
END:VCALENDAR
