BEGIN:VCALENDAR
VERSION:2.0
PRODID:-//GatinApp//Event Calendar//EN
CALSCALE:GREGORIAN
BEGIN:VEVENT
UID:event-5746@gatinapp.com
DTSTAMP:20260420T014541Z
DTSTART:20260503T223000Z
DTEND:20260503T232000Z
SUMMARY:Patinage libre
DESCRIPTION:Patin libre pour tous. Gratuit avec la carte Accès Gatineau+.
LOCATION:Boulevard Gréber
URL:https://www.gatineau.ca/portail/default.aspx?p=activites_evenements_idees_sorties/activites_sport_loisir/activites_interieures/patinage_glace
END:VEVENT
END:VCALENDAR
