BEGIN:VCALENDAR
VERSION:2.0
PRODID:-//GatinApp//Event Calendar//EN
CALSCALE:GREGORIAN
BEGIN:VEVENT
UID:event-5375@gatinapp.com
DTSTAMP:20260420T201645Z
DTSTART:20260504T170000Z
DTEND:20260504T182000Z
SUMMARY:Hockey libre
DESCRIPTION:Hockey libre 50 ans et +. Gratuit avec la carte Accès Gatineau+.
LOCATION:92 Rue du Patrimoine
URL:https://www.gatineau.ca/portail/default.aspx?p=activites_evenements_idees_sorties/activites_sport_loisir/activites_interieures/hockey
END:VEVENT
END:VCALENDAR
