BEGIN:VCALENDAR
VERSION:2.0
PRODID:-//GatinApp//Event Calendar//EN
CALSCALE:GREGORIAN
BEGIN:VEVENT
UID:event-5179@gatinapp.com
DTSTAMP:20260424T031113Z
DTSTART:20260507T223000Z
DTEND:20260508T013000Z
SUMMARY:Basketball libre
DESCRIPTION:16 ANS ET +. Gratuit avec la carte Accès Gatineau+.
LOCATION:278 Rue de l'Atmosphère
URL:https://www.gatineau.ca/portail/default.aspx?p=activites_evenements_idees_sorties/activites_sport_loisir/activites_interieures/basketball
END:VEVENT
END:VCALENDAR
