BEGIN:VCALENDAR
VERSION:2.0
PRODID:-//GatinApp//Event Calendar//EN
CALSCALE:GREGORIAN
X-WR-CALNAME:Basketball libre
BEGIN:VEVENT
UID:event-5149@gatinapp.com
DTSTAMP:20260420T022309Z
DTSTART:20260329T230000Z
DTEND:20260330T020000Z
SUMMARY:Basketball libre
DESCRIPTION:Pour tous. Gratuit avec la carte Accès Gatineau+.
LOCATION:50 Chemin de la Savane
URL:https://www.gatineau.ca/portail/default.aspx?p=activites_evenements_idees_sorties/activites_sport_loisir/activites_interieures/basketball
END:VEVENT
BEGIN:VEVENT
UID:event-5150@gatinapp.com
DTSTAMP:20260420T022309Z
DTSTART:20260405T230000Z
DTEND:20260406T020000Z
SUMMARY:Basketball libre
DESCRIPTION:Pour tous. Gratuit avec la carte Accès Gatineau+.
LOCATION:50 Chemin de la Savane
URL:https://www.gatineau.ca/portail/default.aspx?p=activites_evenements_idees_sorties/activites_sport_loisir/activites_interieures/basketball
END:VEVENT
BEGIN:VEVENT
UID:event-5151@gatinapp.com
DTSTAMP:20260420T022309Z
DTSTART:20260412T230000Z
DTEND:20260413T020000Z
SUMMARY:Basketball libre
DESCRIPTION:Pour tous. Gratuit avec la carte Accès Gatineau+.
LOCATION:50 Chemin de la Savane
URL:https://www.gatineau.ca/portail/default.aspx?p=activites_evenements_idees_sorties/activites_sport_loisir/activites_interieures/basketball
END:VEVENT
BEGIN:VEVENT
UID:event-5152@gatinapp.com
DTSTAMP:20260420T022309Z
DTSTART:20260419T230000Z
DTEND:20260420T020000Z
SUMMARY:Basketball libre
DESCRIPTION:Pour tous. Gratuit avec la carte Accès Gatineau+.
LOCATION:50 Chemin de la Savane
URL:https://www.gatineau.ca/portail/default.aspx?p=activites_evenements_idees_sorties/activites_sport_loisir/activites_interieures/basketball
END:VEVENT
BEGIN:VEVENT
UID:event-5153@gatinapp.com
DTSTAMP:20260420T022309Z
DTSTART:20260426T230000Z
DTEND:20260427T020000Z
SUMMARY:Basketball libre
DESCRIPTION:Pour tous. Gratuit avec la carte Accès Gatineau+.
LOCATION:50 Chemin de la Savane
URL:https://www.gatineau.ca/portail/default.aspx?p=activites_evenements_idees_sorties/activites_sport_loisir/activites_interieures/basketball
END:VEVENT
BEGIN:VEVENT
UID:event-5154@gatinapp.com
DTSTAMP:20260420T022309Z
DTSTART:20260503T230000Z
DTEND:20260504T020000Z
SUMMARY:Basketball libre
DESCRIPTION:Pour tous. Gratuit avec la carte Accès Gatineau+.
LOCATION:50 Chemin de la Savane
URL:https://www.gatineau.ca/portail/default.aspx?p=activites_evenements_idees_sorties/activites_sport_loisir/activites_interieures/basketball
END:VEVENT
BEGIN:VEVENT
UID:event-5155@gatinapp.com
DTSTAMP:20260420T022309Z
DTSTART:20260510T230000Z
DTEND:20260511T020000Z
SUMMARY:Basketball libre
DESCRIPTION:Pour tous. Gratuit avec la carte Accès Gatineau+.
LOCATION:50 Chemin de la Savane
URL:https://www.gatineau.ca/portail/default.aspx?p=activites_evenements_idees_sorties/activites_sport_loisir/activites_interieures/basketball
END:VEVENT
BEGIN:VEVENT
UID:event-5156@gatinapp.com
DTSTAMP:20260420T022309Z
DTSTART:20260517T230000Z
DTEND:20260518T020000Z
SUMMARY:Basketball libre
DESCRIPTION:Pour tous. Gratuit avec la carte Accès Gatineau+.
LOCATION:50 Chemin de la Savane
URL:https://www.gatineau.ca/portail/default.aspx?p=activites_evenements_idees_sorties/activites_sport_loisir/activites_interieures/basketball
END:VEVENT
END:VCALENDAR
