BEGIN:VCALENDAR
VERSION:2.0
PRODID:-//GatinApp//Event Calendar//EN
CALSCALE:GREGORIAN
BEGIN:VEVENT
UID:event-4628@gatinapp.com
DTSTAMP:20260422T034824Z
DTSTART:20260506T003000Z
DTEND:20260506T012500Z
SUMMARY:Badminton libre
DESCRIPTION:TOUS. Gratuit avec la carte Accès Gatineau+.
LOCATION:278 Rue de l'Atmosphère
URL:https://www.gatineau.ca/portail/default.aspx?p=activites_evenements_idees_sorties/activites_sport_loisir/activites_interieures/badminton
END:VEVENT
END:VCALENDAR
