BEGIN:VCALENDAR
VERSION:2.0
PRODID:-//GatinApp//Event Calendar//EN
CALSCALE:GREGORIAN
X-WR-CALNAME:Activités familiales en gymnase
BEGIN:VEVENT
UID:event-4168@gatinapp.com
DTSTAMP:20260419T193339Z
DTSTART:20260329T133000Z
DTEND:20260329T143000Z
SUMMARY:Activités familiales en gymnase
DESCRIPTION:4 ANS ET +. Gratuit avec la carte Accès Gatineau+.
LOCATION:278 Rue de l'Atmosphère
URL:https://www.gatineau.ca/portail/default.aspx?p=activites_evenements_idees_sorties/activites_sport_loisir/activites_interieures/activites_familiales_gymnase
END:VEVENT
BEGIN:VEVENT
UID:event-4169@gatinapp.com
DTSTAMP:20260419T193339Z
DTSTART:20260329T144500Z
DTEND:20260329T154500Z
SUMMARY:Activités familiales en gymnase
DESCRIPTION:4 ANS ET +. Gratuit avec la carte Accès Gatineau+.
LOCATION:278 Rue de l'Atmosphère
URL:https://www.gatineau.ca/portail/default.aspx?p=activites_evenements_idees_sorties/activites_sport_loisir/activites_interieures/activites_familiales_gymnase
END:VEVENT
BEGIN:VEVENT
UID:event-4170@gatinapp.com
DTSTAMP:20260419T193339Z
DTSTART:20260405T133000Z
DTEND:20260405T143000Z
SUMMARY:Activités familiales en gymnase
DESCRIPTION:4 ANS ET +. Gratuit avec la carte Accès Gatineau+.
LOCATION:278 Rue de l'Atmosphère
URL:https://www.gatineau.ca/portail/default.aspx?p=activites_evenements_idees_sorties/activites_sport_loisir/activites_interieures/activites_familiales_gymnase
END:VEVENT
BEGIN:VEVENT
UID:event-4171@gatinapp.com
DTSTAMP:20260419T193339Z
DTSTART:20260405T144500Z
DTEND:20260405T154500Z
SUMMARY:Activités familiales en gymnase
DESCRIPTION:4 ANS ET +. Gratuit avec la carte Accès Gatineau+.
LOCATION:278 Rue de l'Atmosphère
URL:https://www.gatineau.ca/portail/default.aspx?p=activites_evenements_idees_sorties/activites_sport_loisir/activites_interieures/activites_familiales_gymnase
END:VEVENT
BEGIN:VEVENT
UID:event-4172@gatinapp.com
DTSTAMP:20260419T193339Z
DTSTART:20260412T133000Z
DTEND:20260412T143000Z
SUMMARY:Activités familiales en gymnase
DESCRIPTION:4 ANS ET +. Gratuit avec la carte Accès Gatineau+.
LOCATION:278 Rue de l'Atmosphère
URL:https://www.gatineau.ca/portail/default.aspx?p=activites_evenements_idees_sorties/activites_sport_loisir/activites_interieures/activites_familiales_gymnase
END:VEVENT
BEGIN:VEVENT
UID:event-4173@gatinapp.com
DTSTAMP:20260419T193339Z
DTSTART:20260412T144500Z
DTEND:20260412T154500Z
SUMMARY:Activités familiales en gymnase
DESCRIPTION:4 ANS ET +. Gratuit avec la carte Accès Gatineau+.
LOCATION:278 Rue de l'Atmosphère
URL:https://www.gatineau.ca/portail/default.aspx?p=activites_evenements_idees_sorties/activites_sport_loisir/activites_interieures/activites_familiales_gymnase
END:VEVENT
BEGIN:VEVENT
UID:event-4174@gatinapp.com
DTSTAMP:20260419T193339Z
DTSTART:20260419T133000Z
DTEND:20260419T143000Z
SUMMARY:Activités familiales en gymnase
DESCRIPTION:4 ANS ET +. Gratuit avec la carte Accès Gatineau+.
LOCATION:278 Rue de l'Atmosphère
URL:https://www.gatineau.ca/portail/default.aspx?p=activites_evenements_idees_sorties/activites_sport_loisir/activites_interieures/activites_familiales_gymnase
END:VEVENT
BEGIN:VEVENT
UID:event-4175@gatinapp.com
DTSTAMP:20260419T193339Z
DTSTART:20260419T144500Z
DTEND:20260419T154500Z
SUMMARY:Activités familiales en gymnase
DESCRIPTION:4 ANS ET +. Gratuit avec la carte Accès Gatineau+.
LOCATION:278 Rue de l'Atmosphère
URL:https://www.gatineau.ca/portail/default.aspx?p=activites_evenements_idees_sorties/activites_sport_loisir/activites_interieures/activites_familiales_gymnase
END:VEVENT
BEGIN:VEVENT
UID:event-4176@gatinapp.com
DTSTAMP:20260419T193339Z
DTSTART:20260426T133000Z
DTEND:20260426T143000Z
SUMMARY:Activités familiales en gymnase
DESCRIPTION:4 ANS ET +. Gratuit avec la carte Accès Gatineau+.
LOCATION:278 Rue de l'Atmosphère
URL:https://www.gatineau.ca/portail/default.aspx?p=activites_evenements_idees_sorties/activites_sport_loisir/activites_interieures/activites_familiales_gymnase
END:VEVENT
BEGIN:VEVENT
UID:event-4177@gatinapp.com
DTSTAMP:20260419T193339Z
DTSTART:20260426T144500Z
DTEND:20260426T154500Z
SUMMARY:Activités familiales en gymnase
DESCRIPTION:4 ANS ET +. Gratuit avec la carte Accès Gatineau+.
LOCATION:278 Rue de l'Atmosphère
URL:https://www.gatineau.ca/portail/default.aspx?p=activites_evenements_idees_sorties/activites_sport_loisir/activites_interieures/activites_familiales_gymnase
END:VEVENT
BEGIN:VEVENT
UID:event-4178@gatinapp.com
DTSTAMP:20260419T193339Z
DTSTART:20260503T133000Z
DTEND:20260503T143000Z
SUMMARY:Activités familiales en gymnase
DESCRIPTION:4 ANS ET +. Gratuit avec la carte Accès Gatineau+.
LOCATION:278 Rue de l'Atmosphère
URL:https://www.gatineau.ca/portail/default.aspx?p=activites_evenements_idees_sorties/activites_sport_loisir/activites_interieures/activites_familiales_gymnase
END:VEVENT
BEGIN:VEVENT
UID:event-4179@gatinapp.com
DTSTAMP:20260419T193339Z
DTSTART:20260503T144500Z
DTEND:20260503T154500Z
SUMMARY:Activités familiales en gymnase
DESCRIPTION:4 ANS ET +. Gratuit avec la carte Accès Gatineau+.
LOCATION:278 Rue de l'Atmosphère
URL:https://www.gatineau.ca/portail/default.aspx?p=activites_evenements_idees_sorties/activites_sport_loisir/activites_interieures/activites_familiales_gymnase
END:VEVENT
END:VCALENDAR
